BEGIN:VCALENDAR
VERSION:2.0
PRODID:-//Barn Gallery - Ogunquit Art Association - ECPv6.15.20//NONSGML v1.0//EN
CALSCALE:GREGORIAN
METHOD:PUBLISH
X-ORIGINAL-URL:https://barngallery.org
X-WR-CALDESC:Events for Barn Gallery - Ogunquit Art Association
REFRESH-INTERVAL;VALUE=DURATION:PT1H
X-Robots-Tag:noindex
X-PUBLISHED-TTL:PT1H
BEGIN:VTIMEZONE
TZID:America/New_York
BEGIN:DAYLIGHT
TZOFFSETFROM:-0500
TZOFFSETTO:-0400
TZNAME:EDT
DTSTART:20210314T070000
END:DAYLIGHT
BEGIN:STANDARD
TZOFFSETFROM:-0400
TZOFFSETTO:-0500
TZNAME:EST
DTSTART:20211107T060000
END:STANDARD
BEGIN:DAYLIGHT
TZOFFSETFROM:-0500
TZOFFSETTO:-0400
TZNAME:EDT
DTSTART:20220313T070000
END:DAYLIGHT
BEGIN:STANDARD
TZOFFSETFROM:-0400
TZOFFSETTO:-0500
TZNAME:EST
DTSTART:20221106T060000
END:STANDARD
BEGIN:DAYLIGHT
TZOFFSETFROM:-0500
TZOFFSETTO:-0400
TZNAME:EDT
DTSTART:20230312T070000
END:DAYLIGHT
BEGIN:STANDARD
TZOFFSETFROM:-0400
TZOFFSETTO:-0500
TZNAME:EST
DTSTART:20231105T060000
END:STANDARD
END:VTIMEZONE
BEGIN:VEVENT
DTSTART;VALUE=DATE:20220830
DTEND;VALUE=DATE:20220831
DTSTAMP:20260426T042716
CREATED:20220503T140808Z
LAST-MODIFIED:20220503T140808Z
UID:3975-1661817600-1661903999@barngallery.org
SUMMARY:Workshop: Bands of Color in Watercolor and Collage
DESCRIPTION:Join us at Barn Gallery in Ogunquit\, Maine on Tuesday\, August 30th for a “Workshop: Bands of Color in Watercolor and Collage” (between 10am and 3pm) led by Ogunquit Art Association artist-member Ethel Hills. \nSuggested Workshop donation: $50 \n  \nAdditional Information\nCome join accomplished artist + educator Ethel Hills as she presents a workshop focused on “Bands of Color in Watercolor and Collage”. \nEnjoy an art play day and learn a new technique.  \nWe’ll be making small colorful abstract landscapes that celebrate your spirit.  \nOne of the fun pieces of this experience is using bits and pieces of old paintings to help create new paintings.  \nAlthough watercolor will be our primary painting medium\, we’ll be using some less traditional papers along with straight watercolor paper. \nAll skill levels are welcome. \n\nWorkshop: Bands of Color in Watercolor and Collage (w/ Ethel Hills)\n\nTuesday\, August 30 (10am – 3pm)\nSuggested donation: $50\n\n\n\nPreregistration recommended. Call Barn Gallery (207-646-8400 ) after May 25.  \n  \nAbout The Workshop Instructor: Ethel Hills\n \nEthel Hills grew up amidst the orchards\, fields and hills of Hollis\, New Hampshire. While completing her B.A. at the University of New Hampshire\, she fell in love with the marshes and beaches of the seacoast region and eventually settled in Hampton. \nWhile working traditional clerical jobs\, she explored her creativity through needlework\, photography and rug hooking. Interest in developing her own rug designs brought her to a drawing class and the beginning of a love of drawing and painting. To improve her skills\, she actively pursued her study of art\, including traditional art courses at the University of New Hampshire and the New Hampshire Institute of Art.  \nHills has been painting seriously for more than thirty years and is currently pursuing her art career from her studio at Lane House Arts Center in downtown Hampton. She is an active member of the Ogunquit Art Association\, New Hampshire Art Association\, the Abstract Artists Group of New England\, Women’s Caucus for Art\, and Newburyport Art Association. Her work has been included in the Biennial at New Hampshire Institute of Art\, the Regional Juried Show at Newburyport Art Association\, New Hampshire Art Association’s Currier Exhibition and Barn Gallery’s Regional Juried show in Ogunquit\, ME. \n  \n 
URL:https://barngallery.org/event/workshop-bands-of-color-in-watercolor-and-collage-2/
LOCATION:Barn Gallery\, 3 Hartwig Lane\, Ogunquit\, ME\, 03907\, United States
CATEGORIES:Event
ATTACH;FMTTYPE=image/jpeg:https://barngallery.org/wp-content/uploads/2022/05/watercolor_collage.jpg
END:VEVENT
END:VCALENDAR